Workbook

Sheet TDC
A1: TDC - 2011 MPB Update
A2: Area (ha) of MPB Attack Severity by Age Class and Density within Pine Stands (Pine Species >= 30% density - The Pine Mask)
A3: TSA Area | B3: 2989836.5
A4: Pine Mask Unharvested Area | B4: =SUM(data!D2:D200) -> 549542.55
A6: MPB Attack as a percentage of Pine affected within the VRI Stand
A8: MPB Attack Severity
C9: Light (<11%) | E9: Moderate (11-30%) | G9: Severe (31-50%) | I9: Very Severe (>50%) | K9: All Severity | M9: No Attack
A10: Age Class | B10: Pine Density | C10: Area (ha) | D10: Percent of all Pine (Pine Mask) | E10: Area (ha) | F10: Percent of all Pine (Pine Mask) | G10: Area (ha) | H10: Percent of all Pine (Pine Mask) | I10: Area (ha) | J10: Percent of all Pine (Pine Mask) | K10: Total Area of Attack (ha) | L10: Percent of all Pine (Pine Mask) | M10: Area (ha) | N10: Percent of all Pine (Pine Mask)
A11: 21-40 years | B11: 30-70% | C11: {=SUM(IF(data!A2:A200="21-40 years",IF(data!B2:B200="30-70%",IF(data!C2:C200="Light (<11%)",data!D2:D200,0),0),0))} -> 920.33494 | D11: =C11/($K$20+$M$20) -> 0.0017298982 | E11: {=SUM(IF(data!A2:A200="21-40 years",IF(data!B2:B200="30-70%",IF(data!C2:C200="Moderate (11-30%)",data!D2:D200,0),0),0))} -> 765.41386 | F11: =E11/($K$20+$M$20) -> 0.0014387024 | G11: {=SUM(IF(data!A2:A200="21-40 years",IF(data!B2:B200="30-70%",IF(data!C2:C200="Severe (31-50%)",data!D2:D200,0),0),0))} -> 403.01052 | H11: =G11/($K$20+$M$20) -> 0.00075751462 | I11: {=SUM(IF(data!A2:A200="21-40 years",IF(data!B2:B200="30-70%",IF(data!C2:C200="Very Severe (>50%)",data!D2:D200,0),0),0))} -> 2730.2472 | J11: =I11/($K$20+$M$20) -> 0.0051318814 | K11: =SUM(C11,E11,G11,I11) -> 4819.0065 | L11: =K11/($K$20+$M$20) -> 0.0090579966 | M11: {=SUM(IF(data!A2:A200="21-40 years",IF(data!B2:B200="30-70%",IF(data!C2:C200="No Attack",data!D2:D200,0),0),0))} -> 3046.0447 | N11: =M11/($K$20+$M$20) -> 0.0057254669
B12: >70% | C12: {=SUM(IF(data!A2:A200="21-40 years",IF(data!B2:B200=">70%",IF(data!C2:C200="Light (<11%)",data!D2:D200,0),0),0))} -> 567.16422 | D12: =C12/($K$20+$M$20) -> 0.0010660645 | E12: {=SUM(IF(data!A2:A200="21-40 years",IF(data!B2:B200=">70%",IF(data!C2:C200="Moderate (11-30%)",data!D2:D200,0),0),0))} -> 315.18958 | F12: =E12/($K$20+$M$20) -> 0.00059244289 | G12: {=SUM(IF(data!A2:A200="21-40 years",IF(data!B2:B200=">70%",IF(data!C2:C200="Severe (31-50%)",data!D2:D200,0),0),0))} -> 1160.2781 | H12: =G12/($K$20+$M$20) -> 0.0021809049 | I12: {=SUM(IF(data!A2:A200="21-40 years",IF(data!B2:B200=">70%",IF(data!C2:C200="Very Severe (>50%)",data!D2:D200,0),0),0))} -> 2959.5004 | J12: =I12/($K$20+$M$20) -> 0.0055627948 | K12: =SUM(C12,E12,G12,I12) -> 5002.1323 | L12: =K12/($K$20+$M$20) -> 0.009402207 | M12: {=SUM(IF(data!A2:A200="21-40 years",IF(data!B2:B200=">70%",IF(data!C2:C200="No Attack",data!D2:D200,0),0),0))} -> 3617.127 | N12: =M12/($K$20+$M$20) -> 0.0067988959
A14: 41-60 years | B14: 30-70% | C14: {=SUM(IF(data!A2:A200="41-60 years",IF(data!B2:B200="30-70%",IF(data!C2:C200="Light (<11%)",data!D2:D200,0),0),0))} -> 584.60688 | D14: =C14/($K$20+$M$20) -> 0.0010988504 | E14: {=SUM(IF(data!A2:A200="41-60 years",IF(data!B2:B200="30-70%",IF(data!C2:C200="Moderate (11-30%)",data!D2:D200,0),0),0))} -> 491.17388 | F14: =E14/($K$20+$M$20) -> 0.00092322999 | G14: {=SUM(IF(data!A2:A200="41-60 years",IF(data!B2:B200="30-70%",IF(data!C2:C200="Severe (31-50%)",data!D2:D200,0),0),0))} -> 376.02076 | H14: =G14/($K$20+$M$20) -> 0.0007067836 | I14: {=SUM(IF(data!A2:A200="41-60 years",IF(data!B2:B200="30-70%",IF(data!C2:C200="Very Severe (>50%)",data!D2:D200,0),0),0))} -> 5281.043 | J14: =I14/($K$20+$M$20) -> 0.0099264586 | K14: =SUM(C14,E14,G14,I14) -> 6732.8445 | L14: =K14/($K$20+$M$20) -> 0.012655323 | M14: {=SUM(IF(data!A2:A200="41-60 years",IF(data!B2:B200="30-70%",IF(data!C2:C200="No Attack",data!D2:D200,0),0),0))} -> 1469.2337 | N14: =M14/($K$20+$M$20) -> 0.0027616301
B15: >70% | C15: {=SUM(IF(data!A2:A200="41-60 years",IF(data!B2:B200=">70%",IF(data!C2:C200="Light (<11%)",data!D2:D200,0),0),0))} -> 186.12333 | D15: =C15/($K$20+$M$20) -> 0.00034984482 | E15: {=SUM(IF(data!A2:A200="41-60 years",IF(data!B2:B200=">70%",IF(data!C2:C200="Moderate (11-30%)",data!D2:D200,0),0),0))} -> 111.5562 | F15: =E15/($K$20+$M$20) -> 0.00020968548 | G15: {=SUM(IF(data!A2:A200="41-60 years",IF(data!B2:B200=">70%",IF(data!C2:C200="Severe (31-50%)",data!D2:D200,0),0),0))} -> 246.66701 | H15: =G15/($K$20+$M$20) -> 0.00046364514 | I15: {=SUM(IF(data!A2:A200="41-60 years",IF(data!B2:B200=">70%",IF(data!C2:C200="Very Severe (>50%)",data!D2:D200,0),0),0))} -> 7769.8269 | J15: =I15/($K$20+$M$20) -> 0.014604476 | K15: =SUM(C15,E15,G15,I15) -> 8314.1735 | L15: =K15/($K$20+$M$20) -> 0.015627651 | M15: {=SUM(IF(data!A2:A200="41-60 years",IF(data!B2:B200=">70%",IF(data!C2:C200="No Attack",data!D2:D200,0),0),0))} -> 782.27645 | N15: =M15/($K$20+$M$20) -> 0.001470398
A17: >60 years | B17: 30-70% | C17: {=SUM(IF(data!A2:A200=">60 years",IF(data!B2:B200="30-70%",IF(data!C2:C200="Light (<11%)",data!D2:D200,0),0),0))} -> 6154.7991 | D17: =C17/($K$20+$M$20) -> 0.011568805 | E17: {=SUM(IF(data!A2:A200=">60 years",IF(data!B2:B200="30-70%",IF(data!C2:C200="Moderate (11-30%)",data!D2:D200,0),0),0))} -> 6824.6442 | F17: =E17/($K$20+$M$20) -> 0.012827873 | G17: {=SUM(IF(data!A2:A200=">60 years",IF(data!B2:B200="30-70%",IF(data!C2:C200="Severe (31-50%)",data!D2:D200,0),0),0))} -> 7164.7237 | H17: =G17/($K$20+$M$20) -> 0.0134671 | I17: {=SUM(IF(data!A2:A200=">60 years",IF(data!B2:B200="30-70%",IF(data!C2:C200="Very Severe (>50%)",data!D2:D200,0),0),0))} -> 155521.51 | J17: =I17/($K$20+$M$20) -> 0.29232443 | K17: =SUM(C17,E17,G17,I17) -> 175665.68 | L17: =K17/($K$20+$M$20) -> 0.33018821 | M17: {=SUM(IF(data!A2:A200=">60 years",IF(data!B2:B200="30-70%",IF(data!C2:C200="No Attack",data!D2:D200,0),0),0))} -> 31291.347 | N17: =M17/($K$20+$M$20) -> 0.058816462
B18: >70% | C18: {=SUM(IF(data!A2:A200=">60 years",IF(data!B2:B200=">70%",IF(data!C2:C200="Light (<11%)",data!D2:D200,0),0),0))} -> 8780.8724 | D18: =C18/($K$20+$M$20) -> 0.016504877 | E18: {=SUM(IF(data!A2:A200=">60 years",IF(data!B2:B200=">70%",IF(data!C2:C200="Moderate (11-30%)",data!D2:D200,0),0),0))} -> 6585.8248 | F18: =E18/($K$20+$M$20) -> 0.012378979 | G18: {=SUM(IF(data!A2:A200=">60 years",IF(data!B2:B200=">70%",IF(data!C2:C200="Severe (31-50%)",data!D2:D200,0),0),0))} -> 5844.7593 | H18: =G18/($K$20+$M$20) -> 0.010986042 | I18: {=SUM(IF(data!A2:A200=">60 years",IF(data!B2:B200=">70%",IF(data!C2:C200="Very Severe (>50%)",data!D2:D200,0),0),0))} -> 225637.21 | J18: =I18/($K$20+$M$20) -> 0.42411668 | K18: =SUM(C18,E18,G18,I18) -> 246848.66 | L18: =K18/($K$20+$M$20) -> 0.46398658 | M18: {=SUM(IF(data!A2:A200=">60 years",IF(data!B2:B200=">70%",IF(data!C2:C200="No Attack",data!D2:D200,0),0),0))} -> 44428.293 | N18: =M18/($K$20+$M$20) -> 0.083509189
A20: Total | C20: =SUM(C11:C18) -> 17193.901 | D20: =C20/($K$20+$M$20) -> 0.032318341 | E20: =SUM(E11:E18) -> 15093.803 | F20: =E20/($K$20+$M$20) -> 0.028370912 | G20: =SUM(G11:G18) -> 15195.459 | H20: =G20/($K$20+$M$20) -> 0.02856199 | I20: =SUM(I11:I18) -> 399899.34 | J20: =I20/($K$20+$M$20) -> 0.75166671 | K20: =SUM(K11:K18) -> 447382.5 | L20: =SUM(L11:L18) -> 0.84091796 | M20: =SUM(M11:M18) -> 84634.322 | N20: =SUM(N11:N18) -> 0.15908204

Sheet data
A1: Age Class | B1: Pine Density | C1: MPB Attack Severity | D1: Sum Of area_ha
A2: <21 years | B2: >70% | C2: Light (<11%) | D2: 717.26469
A3: <21 years | B3: >70% | C3: Light (<11%) | D3: 1296.0322
A4: <21 years | B4: >70% | C4: Light (<11%) | D4: 1149.725
A5: <21 years | B5: >70% | C5: Moderate (11-30%) | D5: 54.506905
A6: <21 years | B6: >70% | C6: Moderate (11-30%) | D6: 229.90292
A7: <21 years | B7: >70% | C7: No Attack | D7: 2235.563
A8: <21 years | B8: >70% | C8: No Attack | D8: 241.5269
A9: <21 years | B9: >70% | C9: No Attack | D9: 107.53015
A10: <21 years | B10: >70% | C10: No Attack | D10: 776.14726
A11: <21 years | B11: >70% | C11: Severe (31-50%) | D11: 12.2342
A12: <21 years | B12: >70% | C12: Severe (31-50%) | D12: 15.335006
A13: <21 years | B13: >70% | C13: Severe (31-50%) | D13: 59.471006
... A116: 41-60 years | B116: 30-70% | C116: Very Severe (>50%) | D116: 4418.3551

Sheet Sheet3
